BEGIN:VCALENDAR
VERSION:2.0
PRODID:-//eventon.com NONSGML v1.0//EN
CALSCALE:GREGORIAN
METHOD:PUBLISH
BEGIN:VEVENT
UID:69eb5088e6ac3
DTSTAMP:20260424T111416Z
DTSTART:20231111
DTEND:20231112
LOCATION:
SUMMARY:1. Bundesliga Luftpistole
DESCRIPTION:11.11.2023\,  15.00 Uhr SVHHO - KKS Hambrücken 12.11.2023\,  1
 3.00 Uhr SVHHO - SV Waldkirch\nhttps://hubertus-hitzhofen-oberzell.de/event
 s/1-bundesliga-luftpistole/
URL:https://hubertus-hitzhofen-oberzell.de/events/1-bundesliga-luftpistole/
END:VEVENT
END:VCALENDAR