BEGIN:VCALENDAR
VERSION:2.0
PRODID:-//eventon.com NONSGML v1.0//EN
CALSCALE:GREGORIAN
METHOD:PUBLISH
BEGIN:VEVENT
UID:69eb7898bda17
DTSTAMP:20260424T140512Z
DTSTART:20231125
DTEND:20231126
LOCATION:
SUMMARY:1. Bundesliga Luftpistole
DESCRIPTION:25.11.2023\,  16.30 Uhr SVHHO - HSG München\nhttps://hubertus-
 hitzhofen-oberzell.de/events/1-bundesliga-luftpistole-2/
URL:https://hubertus-hitzhofen-oberzell.de/events/1-bundesliga-luftpistole-2/
END:VEVENT
END:VCALENDAR