BEGIN:VCALENDAR
VERSION:2.0
PRODID:-//eventon.com NONSGML v1.0//EN
CALSCALE:GREGORIAN
METHOD:PUBLISH
BEGIN:VEVENT
UID:69eb50c528ff2
DTSTAMP:20260424T111517Z
DTSTART:20231209
DTEND:20231210
LOCATION:
SUMMARY:1. Bundesliga Luftpistole
DESCRIPTION:09.12.2023\,  16.30 Uhr SVHHO - FSG Kempten 10.12.2023\,  10.00
  Uhr SVHHO - SSG Fürth\nhttps://hubertus-hitzhofen-oberzell.de/events/1-bu
 ndesliga-luftpistole-3/
URL:https://hubertus-hitzhofen-oberzell.de/events/1-bundesliga-luftpistole-3/
END:VEVENT
END:VCALENDAR