BEGIN:VCALENDAR
VERSION:2.0
PRODID:-//eventon.com NONSGML v1.0//EN
CALSCALE:GREGORIAN
METHOD:PUBLISH
BEGIN:VEVENT
UID:69eb7a9c41bfe
DTSTAMP:20260424T141348Z
DTSTART:20240113
DTEND:20240114
LOCATION:
SUMMARY:1. Bundesliga Luftpistole
DESCRIPTION:13.01.2024\,  16.30 Uhr SVHHO - ESV Weil am Rhein 14.01.2024\, 
  13.00 Uhr SVHHO - SGI Ludwigsburg\nhttps://hubertus-hitzhofen-oberzell.de/
 events/1-bundesliga-luftpistole-4/
URL:https://hubertus-hitzhofen-oberzell.de/events/1-bundesliga-luftpistole-4/
END:VEVENT
END:VCALENDAR