BEGIN:VCALENDAR
VERSION:2.0
PRODID:-//eventon.com NONSGML v1.0//EN
CALSCALE:GREGORIAN
METHOD:PUBLISH
BEGIN:VEVENT
UID:69eb50a3c6db2
DTSTAMP:20260424T111443Z
DTSTART:20231014
DTEND:20231015
LOCATION:
SUMMARY:1. Bundesliga Luftpistole
DESCRIPTION:14.10.2023\,  16.30 Uhr SVHHO - TSV Ötlingen 15.10.2023\,  10.
 00 Uhr SVHHO - SGi Waldenburg\nhttps://hubertus-hitzhofen-oberzell.de/event
 s/1-bundesliga-luftpistole-5/
URL:https://hubertus-hitzhofen-oberzell.de/events/1-bundesliga-luftpistole-5/
END:VEVENT
END:VCALENDAR