BEGIN:VCALENDAR
VERSION:2.0
PRODID:-//eventon.com NONSGML v1.0//EN
CALSCALE:GREGORIAN
METHOD:PUBLISH
BEGIN:VEVENT
UID:69eb50c595e4b
DTSTAMP:20260424T111517Z
DTSTART:20231028
DTEND:20231029
LOCATION:
SUMMARY:1. Bundesliga Luftpistole
DESCRIPTION:28.10.2023\,  18.00 Uhr SVHHO - SV Kelheim-Gmünd 29.10.2023. 1
 3.00 Uhr SVHHO - SG Scheuring\nhttps://hubertus-hitzhofen-oberzell.de/event
 s/1-bundesliga-luftpistole-6/
URL:https://hubertus-hitzhofen-oberzell.de/events/1-bundesliga-luftpistole-6/
END:VEVENT
END:VCALENDAR