BEGIN:VCALENDAR
VERSION:2.0
PRODID:-//eventon.com NONSGML v1.0//EN
CALSCALE:GREGORIAN
METHOD:PUBLISH
BEGIN:VEVENT
UID:69eb50733f198
DTSTAMP:20260424T111355Z
DTSTART:20241005
DTEND:20241006
LOCATION:
SUMMARY:1. Bundesliga Luftpistole
DESCRIPTION:05.10.2024\,  16.30 Uhr: SV Altheim Waldhausen - SV Hitzhofen-O
 berzell 06.10.2024\,  10.00 Uhr: KKS Hambrücken - SV Hitzhofen-Oberzell\nh
 ttps://hubertus-hitzhofen-oberzell.de/events/1-bundesliga-luftpistole-7/
URL:https://hubertus-hitzhofen-oberzell.de/events/1-bundesliga-luftpistole-7/
END:VEVENT
END:VCALENDAR