BEGIN:VCALENDAR
VERSION:2.0
PRODID:-//eventon.com NONSGML v1.0//EN
CALSCALE:GREGORIAN
METHOD:PUBLISH
BEGIN:VEVENT
UID:69eb50744e823
DTSTAMP:20260424T111356Z
DTSTART:20241019
DTEND:20241020
LOCATION:
SUMMARY:1. Bundesliga Luftpistole
DESCRIPTION:19.10.2024\,  18.00 Uhr: SV Hitzhofen-Oberzell - SV Kelheim-GmÃ
 ¼nd 20.10.2014\,  13.00 Uhr: SV Hitzhofen-Oberzell - Sgi Waldenburg\nhttps:
 //hubertus-hitzhofen-oberzell.de/events/1-bundesliga-luftpistole-8/
URL:https://hubertus-hitzhofen-oberzell.de/events/1-bundesliga-luftpistole-8/
END:VEVENT
END:VCALENDAR