BEGIN:VCALENDAR
VERSION:2.0
PRODID:-//eventon.com NONSGML v1.0//EN
CALSCALE:GREGORIAN
METHOD:PUBLISH
BEGIN:VEVENT
UID:69eb508818c39
DTSTAMP:20260424T111416Z
DTSTART:20241102
DTEND:20241103
LOCATION:
SUMMARY:1. Bundesliga Luftpistole
DESCRIPTION:02.11.2024\,  15.00 Uhr: SV Hitzhofen-Oberzell - FSG Kempten 03
 .11.2024\,  13.00 Uhr: HSG München - SV Hitzhofen-Oberzell\nhttps://hubert
 us-hitzhofen-oberzell.de/events/1-bundesliga-luftpistole-9/
URL:https://hubertus-hitzhofen-oberzell.de/events/1-bundesliga-luftpistole-9/
END:VEVENT
END:VCALENDAR