BEGIN:VCALENDAR
VERSION:2.0
PRODID:-//eventon.com NONSGML v1.0//EN
CALSCALE:GREGORIAN
METHOD:PUBLISH
BEGIN:VEVENT
UID:69eb50733a601
DTSTAMP:20260424T111355Z
DTSTART:20241116
DTEND:20241117
LOCATION:
SUMMARY:1. Bundesliga Luftpistole
DESCRIPTION:16.11.2024\,  16.30 Uhr: SV Hitzhofen-Oberzell - SV Waldkirch\n
 https://hubertus-hitzhofen-oberzell.de/events/1-bundesliga-luftpistole-10/
URL:https://hubertus-hitzhofen-oberzell.de/events/1-bundesliga-luftpistole-10/
END:VEVENT
END:VCALENDAR