BEGIN:VCALENDAR
VERSION:2.0
PRODID:-//eventon.com NONSGML v1.0//EN
CALSCALE:GREGORIAN
METHOD:PUBLISH
BEGIN:VEVENT
UID:69eb7a9d4baad
DTSTAMP:20260424T141349Z
DTSTART:20241130
DTEND:20241201
LOCATION:
SUMMARY:1. Bundesliga Luftpistole
DESCRIPTION:30.11.2024\,  16.30 Uhr: SV Hitzhofen-Oberzell - SGi Ludwigsbur
 g 01.12.2024\,  10.00 Uhr: SV Hitzhofen-Oberzell - ESV Weil am Rhein\nhttps
 ://hubertus-hitzhofen-oberzell.de/events/1-bundesliga-luftpistole-11/
URL:https://hubertus-hitzhofen-oberzell.de/events/1-bundesliga-luftpistole-11/
END:VEVENT
END:VCALENDAR