BEGIN:VCALENDAR
VERSION:2.0
PRODID:-//eventon.com NONSGML v1.0//EN
CALSCALE:GREGORIAN
METHOD:PUBLISH
BEGIN:VEVENT
UID:69eb5088188c2
DTSTAMP:20260424T111416Z
DTSTART:20250104
DTEND:20250105
LOCATION:
SUMMARY:1. Bundesliga Luftpistole
DESCRIPTION:04.01.2025\,  16.30 Uhr: SSG Dynamit Fürth - SV Hitzhofen-Ober
 zell 05.01.2025\,  10.00 Uhr: SG Scheuring - SV Hitzhofen-Oberzell\nhttps:/
 /hubertus-hitzhofen-oberzell.de/events/1-bundesliga-luftpistole-12/
URL:https://hubertus-hitzhofen-oberzell.de/events/1-bundesliga-luftpistole-12/
END:VEVENT
END:VCALENDAR