BEGIN:VCALENDAR
VERSION:2.0
PRODID:-//eventon.com NONSGML v1.0//EN
CALSCALE:GREGORIAN
METHOD:PUBLISH
BEGIN:VEVENT
UID:69eb505697cd0
DTSTAMP:20260424T111326Z
DTSTART:20251018
DTEND:20251019
LOCATION:
SUMMARY:Heimwettkampf Bundesliga
DESCRIPTION:Heimwettkampf Bundesliga\nhttps://hubertus-hitzhofen-oberzell.d
 e/events/heimwettkampf-bundesliga/
URL:https://hubertus-hitzhofen-oberzell.de/events/heimwettkampf-bundesliga/
END:VEVENT
END:VCALENDAR