BEGIN:VCALENDAR
VERSION:2.0
PRODID:-//eventon.com NONSGML v1.0//EN
CALSCALE:GREGORIAN
METHOD:PUBLISH
BEGIN:VEVENT
UID:69eb50c493a73
DTSTAMP:20260424T111516Z
DTSTART:20251004
DTEND:20251005
LOCATION:
SUMMARY:1. Bundesliga Luftpistole
DESCRIPTION:1. Bundesliga Luftpistole\nhttps://hubertus-hitzhofen-oberzell.
 de/events/1-bundesliga-luftpistole-13/
URL:https://hubertus-hitzhofen-oberzell.de/events/1-bundesliga-luftpistole-13/
END:VEVENT
END:VCALENDAR