BEGIN:VCALENDAR
VERSION:2.0
PRODID:-//eventon.com NONSGML v1.0//EN
CALSCALE:GREGORIAN
METHOD:PUBLISH
BEGIN:VEVENT
UID:69eb50a4ed64c
DTSTAMP:20260424T111444Z
DTSTART:20251101
DTEND:20251102
LOCATION:
SUMMARY:1. Bundesliga Luftpistole
DESCRIPTION:1. Bundesliga Luftpistole\nhttps://hubertus-hitzhofen-oberzell.
 de/events/1-bundesliga-luftpistole-14/
URL:https://hubertus-hitzhofen-oberzell.de/events/1-bundesliga-luftpistole-14/
END:VEVENT
END:VCALENDAR