BEGIN:VCALENDAR
VERSION:2.0
PRODID:-//eventon.com NONSGML v1.0//EN
CALSCALE:GREGORIAN
METHOD:PUBLISH
BEGIN:VEVENT
UID:69eb50569e352
DTSTAMP:20260424T111326Z
DTSTART:20251115
DTEND:20251116
LOCATION:
SUMMARY:1. Bundesliga Luftpistole
DESCRIPTION:1. Bundesliga Luftpistole\nhttps://hubertus-hitzhofen-oberzell.
 de/events/1-bundesliga-luftpistole-15/
URL:https://hubertus-hitzhofen-oberzell.de/events/1-bundesliga-luftpistole-15/
END:VEVENT
END:VCALENDAR