BEGIN:VCALENDAR
VERSION:2.0
PRODID:-//eventon.com NONSGML v1.0//EN
CALSCALE:GREGORIAN
METHOD:PUBLISH
BEGIN:VEVENT
UID:69eb50a3c841d
DTSTAMP:20260424T111443Z
DTSTART:20251129
DTEND:20251130
LOCATION:
SUMMARY:1. Bundesliga Luftpistole
DESCRIPTION:1. Bundesliga Luftpistole\nhttps://hubertus-hitzhofen-oberzell.
 de/events/1-bundesliga-luftpistole-16/
URL:https://hubertus-hitzhofen-oberzell.de/events/1-bundesliga-luftpistole-16/
END:VEVENT
END:VCALENDAR