BEGIN:VCALENDAR
VERSION:2.0
PRODID:-//eventon.com NONSGML v1.0//EN
CALSCALE:GREGORIAN
METHOD:PUBLISH
BEGIN:VEVENT
UID:69eb50886a50a
DTSTAMP:20260424T111416Z
DTSTART:20260103
DTEND:20260104
LOCATION:
SUMMARY:1. Bundesliga Luftpistole
DESCRIPTION:1. Bundesliga Luftpistole\nhttps://hubertus-hitzhofen-oberzell.
 de/events/1-bundesliga-luftpistole-17/
URL:https://hubertus-hitzhofen-oberzell.de/events/1-bundesliga-luftpistole-17/
END:VEVENT
END:VCALENDAR